BEGIN:VCALENDAR
VERSION:2.0
PRODID:-//FinishLine Nürnberg - ECPv6.2.3.2//NONSGML v1.0//EN
CALSCALE:GREGORIAN
METHOD:PUBLISH
X-WR-CALNAME:FinishLine Nürnberg
X-ORIGINAL-URL:https://finish-line.de
X-WR-CALDESC:Veranstaltungen für FinishLine Nürnberg
REFRESH-INTERVAL;VALUE=DURATION:PT1H
X-Robots-Tag:noindex
X-PUBLISHED-TTL:PT1H
BEGIN:VTIMEZONE
TZID:Europe/Berlin
BEGIN:DAYLIGHT
TZOFFSETFROM:+0100
TZOFFSETTO:+0200
TZNAME:CEST
DTSTART:20260329T010000
END:DAYLIGHT
BEGIN:STANDARD
TZOFFSETFROM:+0200
TZOFFSETTO:+0100
TZNAME:CET
DTSTART:20261025T010000
END:STANDARD
END:VTIMEZONE
BEGIN:VEVENT
DTSTART;TZID=Europe/Berlin:20260509T110000
DTEND;TZID=Europe/Berlin:20260509T180000
DTSTAMP:20260420T031020
CREATED:20260312T130701Z
LAST-MODIFIED:20260314T061947Z
UID:616-1778324400-1778349600@finish-line.de
SUMMARY:Nürnberger Frauenlauf 2026
DESCRIPTION:Strandcafé Wöhrder See\nNürnberger Frauenlauf 2026 in Nürnberg inkl. Hygienekonzept \nTermin: Samstag\, 09.05.2026 \nVeranstalter: \nFINISHLINE Run & More \nKarl-Grillenberger-Str.3\, 90402 Nürnberg \nAnsprechpartner: \nWolfgang Schweigert\, Tel.: 0157500771311 (Zeiten Mo – Fr 10- 15 Uhr) \nSimone Schweigert\, Tel.: 017672125390 (Zeiten Di &  Mi 10 – 14 Uhr) \nwebseite: https://finish-line.de/ \n1.    Organisatorische Maßnahmen \nVeranstalter: \nFinishLine Run & More\, Karl-Grillenberger-Str.3\, 90402 Nürnberg                                         \nTermine/ Wöhrder See / Start und Ziel beim Strandcafe am WÖHRDER SEE: \n09.05.2026 – Start: \n14:00 Uhr 5 km Hobby Lauf/ 5 km Nordic Walking / ab Jahrgang: ab 2010 und älter \, maximale Teilnehmerzahl: 999 \n15:15 Uhr: 10 km Lauf\, ab Jahrgang: ab 2010 und älter \, maximale Teilnehmerzahl: 999 \nEs gilt die 5 km Strecke als Hobbylauf sowie als Nordic Walking Lauf\, welche 1x zu absolvieren ist. Beim 10 km Lauf muss die Strecke 2x gelaufen werden. \nStrecken am 09.5.2026: \n5 km Hobby Lauf / 5 km Nordic Walking \n \n10 km Hauptlauf x2 die gleiche Strecke \n \nAm Wöhrder See; über geteerte Wege. Auf der Laufstrecke kann Eis und Schnee liegen\, es wird nicht zu 100% geräumt.\nEs kann zu Schnee und Eisbildung am Wettkampftag kommen. \nVerpflegung im Start-/ Zielbereich: \nWasser\, evtl. Gel \nZielbereich Ausgabe: \nGetränke\, Äpfel\, Riegel \nStartberechtigung: \nJeder\, der der jeweiligen Klassifizierung entspricht und sich die Distanz zutraut. Startberechtigt sind alle Läufer/innen der oben genannten Jahrgänge\, die im Besitz der offiziellen Startnummer des FinishLine Run & More sind. Die Startnummer ist nicht übertragbar und ist unverändert auf der Vorderseite des Lauftrikots zu tragen. Eine Vereinszugehörigkeit ist nicht erforderlich.\nMit Deiner Anmeldung hast Du die Datenschutzerklärung und den Haftungsausschluss (siehe Text unten) akzeptiert. \n2.    Teilnahmebedingung/ Haftungsausschluss\nIch erkläre\, dass meine Teilnahme am FinishLine Run für die von mir gemeldete Stecke auf eigene Gefahr und auf eigenes Risiko erfolgt. Mir ist bekannt\, dass es sich hierbei um einen Lauf für den Breitensport handelt\, der nicht unter Wettkampfbedingungen durchgeführt werden kann\, aber bei dem die Zeiten mittels elektronischer Unterstützung gemessen werden. Mit meiner Anmeldung bin ich damit einverstanden\, dass Schadensersatzansprüche gegenüber dem Veranstalter\, gleich aus welchem Rechtsgrund\, ausgeschlossen sind\, ausgenommen den Fall\, dass der Veranstalter\, seine gesetzlichen Vertreter oder Erfüllungsgehilfen vorsätzlich oder grob fahrlässig gehandelt haben oder wegen dem Veranstalter zurechenbarer Schäden aus der Verletzung des Lebens\, des Körpers oder der Gesundheit oder der Verletzung wesentlicher Vertragspflichten zwingend gehaftet wird. Ich erkläre\, dass ich für die Teilnahme an diesem Wettbewerb/ dieser Veranstaltung ausreichend trainiert habe\, körperlich gesund bin und mir mein Gesundheitszustand ärztlich bestätigt wurde. Ich bin damit einverstanden\, dass die in meiner Anmeldung genannten Daten\, das von mir im Zusammenhang mit meiner Teilnahme erzielte Wettkampfergebnis\, die gemachten Fotos\, Filmaufnahmen und Interviews in Rundfunk\, Fernsehen\, Werbung\, Büchern\, fotomechanischen oder digitalen Vervielfältigungen (Filme\, Videokassetten etc.) ohne Vergütungsansprüche meinerseits genutzt\, ins Internet gestellt und weitergegeben werden dürfen. Ich versichere\, dass mein genanntes Geburtsjahr richtig ist und dass ich meine Startnummer an keine andere Person weitergeben werde. Mir ist bekannt\, dass ich disqualifiziert werde\, wenn ich die offizielle Startnummer in irgendeiner Weise verändere\, insbesondere den Werbedruck unsichtbar oder unkenntlich mache. Mir ist bekannt\, dass ich kein Anrecht auf Rückerstattung des Organisationsbeitrages habe\, wenn ich bei dem Wettkampf/ der Veranstaltung nicht antrete oder die Veranstaltung durch höhere Gewalt ausfällt (diese gilt auch bei der nicht vorhersehbaren Corona-Pandemie-Lage). Mir ist bekannt\, dass die Streckenführung des Laufs Rund um den Wöhrder See auf teilweise Teerstraßen und Schotterwege gehen. Ich habe als Teilnehmer den Weisungen der Polizei\, der Rettungskräfte sowie dem gekennzeichneten Aufsichtspersonal auf der Wegstrecke Folge zu leisten. Hilfsmittel\, wie z. B. City-Roller und Inline-Skates\, sind nicht erlaubt. Die Begleitung von Personen auf Sportgeräten (z. B. Fahrrädern …) führt zur Disqualifikation. Bei allen Wettbewerben ist das Tragen von Ohrstöpsel aus Sicherheitsgründen nicht gestattet. \nDatenschutzerklärung \n3.    Hygienekonzept\nAllgemein: \nDie Abholung der Startunterlagen  ist nur persönlich möglich bzw. kann jemand nach Vorlage der  Anmeldung für euch mitabholen. \nStartnummernausgabe/ Start-/ Zielbereich: \nDer Start-/ Zielbereich ist nur den Teilnehmerinnen und Teilnehmer vorbehalten. Im gesamten Bereich und auch im Bereich der Startunterlagenausgabe gelten die allgemeinen Hygiene-Regeln. \nTeilnahmegebühren: \n  \n\n\n\n\n\n\n\nWettbewerb\n10.03. – 10.04\n11.04.- 26.04.\nAb 26.04. ohne Eventshirt (evtl. falls ausreichend Shirts vorhanden sind bei der Abholung der Startunterlagen). Anmeldschluss 05.05.2026\nNachmeldung ab dem 06. Bzw bei der Ausgabe möglich\, ohne Eventshirt\n\n\n5km\n20 €\n25 €\n25 €\n27 €\n\n\n5km   Nordic Walking\n20 €\n25 €\n25 €\n27 €\n\n\n10km\n30 €\n35 €\n35 €\n35 €\n\n\n\n\n\n\n\nAnmeldung hier \nAnmeldung: \nOnline Anmeldung ab sofort bis einschl. 05.05.2026 möglich \n*Nachmeldungen: \nEine Nachmeldung ist nur möglich am Freitag oder Samstag im Rahmen der Startnummernausgabe\, nur Barzahlung. \n Zahlungsmöglichkeiten \nPer SEPA-Lastschriftmandat \nZeitmessung: \nTime2Finish GbR \nGER Gewerbepark \nBurkhardt+Weber-Strasse 59 (Eingang 8g) \n72760 Reutlingen \nwww.racepedia360.de \nChip-Zeitmessung: Der Chip ist in der Startnummer integriert; Brutto/Netto Zeitnahme. Die Zeitmessung erfolgt durch racesolution-Sportzeitnahme. \nRücktritt: \nGrundsätzlich besteht kein Anspruch auf Rückzahlung des Organisationsbeitrages. Dies gilt insbesondere bei krankheits- oder verletzungsbedingter Nicht-Teilnahme sowie bei Ausfall der Veranstaltung durch höhere Gewalt. \nStartnummernausgabe: \nErfolgt am Freitag\, den 08.05. in der Zeit von 15 bis 18:00 Uhr im FinishLine Run & More\, Karl-Grillenberger-Str.3\, 90402 Nürnberg.  Samstag\, den 09.05. in der Zeit von 12 Uhr bis 13:30 Uhr am Veranstaltungsort. \nStart/ Ziel: \nWöhrder See beim Strandcafe \nWertung: \nGesamtsieger aller Läufe;  Altersklassenwertung sowie Urkunden online. \nErgebnisliste/ Urkunde: \nLink für die Ergebnisliste und Urkunden zum Download findet Ihr auf der Homepage von FinishLine Run & More oder unter https://frauenlauf-nuernberg-2026.racepedia.de/ergebnisse \nEin Urkundenversand erfolgt nicht! \nBilder: \nAuf der Facebookseite des FinishLine Run & More \nParkmöglichkeiten: \nIm Wohngebiet. \nUmkleidemöglichkeiten:  \nSind keine vorhanden\, ebenso keine Gepäckabgabe möglich \nSiegerehrung: \nDie Siegerpreise des FinishLine Run können entweder im FinishLine Run & More abgeholt werden. \nKontaktadresse: \nFinishLine Run & More\, Karl-Grillenberger-Str.3\, 90402 Nürnberg \nAnsprechpartner: \nWolfgang Schweigert\, Tel.: 0157500771311 / Simone Schweigert\, Tel.: 017672125390\, \nwebseite: https://finish-line.de/ \nImpressum\nImpressum \nDatenschutzerklärung\nDatenschutzerklärung
URL:https://finish-line.de/veranstaltungen/nuernberger-frauenlauf-2026/
LOCATION:Strandcafé Wöhrder See\, Johann-Soergel-Weg 50\, Nürnberg
ATTACH;FMTTYPE=image/png:https://finish-line.de/wp-content/uploads/2026/03/Logo_Frauenlauf.png
ORGANIZER;CN="FinishLine N%C3%BCrnberg":MAILTO:info@finish-line.de
END:VEVENT
END:VCALENDAR